BEGIN:VCALENDAR
PRODID: -//CFLIB.ORG//iCalUS()//EN
VERSION:2.0
BEGIN:VTIMEZONE
TZID:Eastern Time
BEGIN:STANDARD
DTSTART:20061101T020000
RRULE:FREQ=YEARLY;INTERVAL=1;BYDAY=1SU;BYMONTH=11
TZOFFSETFROM:-0400
TZOFFSETTO:-0500
TZNAME:Standard Time
END:STANDARD
BEGIN:DAYLIGHT
DTSTART:20060301T020000
RRULE:FREQ=YEARLY;INTERVAL=1;BYDAY=2SU;BYMONTH=3
TZOFFSETFROM:-0500
TZOFFSETTO:-0400
TZNAME:Daylight Savings Time
END:DAYLIGHT
END:VTIMEZONE
BEGIN:VEVENT
UID:1776787576261.senate.gov
DTSTAMP:20260421T160616
DTSTART;TZID=Eastern Time:20260422T140000
DTEND;TZID=Eastern Time:20260422T170000
SUMMARY:Hearing on Trump's Mass Deportations - and ICE & CBP Attacks on U.S. Citizens (Minority Day Hearing)
LOCATION:310 Cannon House Office Building
URL:https://democrats-homeland.house.gov/activities/hearings/hearing-on-trumps-mass-deportations_-and-ice-and-cbp-attacks-on-us-citizens-minority-day-hearing
PRIORITY:1
TRANSP:OPAQUE
CLASS:PUBLIC
BEGIN:VALARM
TRIGGER:-PT30M
ACTION:DISPLAY
DESCRIPTION:Reminder
END:VALARM
END:VEVENT
END:VCALENDAR